BEGIN:VCALENDAR
PRODID:-//eluceo/ical//2.0/EN
VERSION:2.0
CALSCALE:GREGORIAN
BEGIN:VEVENT
UID:977d31ce2ce6f5369abed2adb34d3c78
DTSTAMP:20260423T212526Z
SUMMARY:Klezmer Night with Itay Dayan & His Band at The Foundry
DESCRIPTION:Jewish Federation of the Berkshires\nBerkshire Jewish Community
  Calendar\nhttps://jewishberkshires.org/jewish-federation-of-the-berkshire
 s-calendar/klezmer-night-itay-dayan-the-foundry\n\nBased in Boston\, Massa
 chusetts\, Israeli clarinetist and composer Itay Dayan is considered one o
 f today’s most promising voices in klezmer music.
DTSTART;TZID=America/New_York:20251129T193000
DTEND;TZID=America/New_York:20251129T213000
END:VEVENT
END:VCALENDAR
