BEGIN:VCALENDAR
PRODID:-//eluceo/ical//2.0/EN
VERSION:2.0
CALSCALE:GREGORIAN
BEGIN:VEVENT
UID:e8b2efbb2ac1decdeefdf4294c8345ab
DTSTAMP:20260421T122418Z
SUMMARY:Kitah Bet - Adult Hebrew Class
DESCRIPTION:Jewish Federation of the Berkshires\nBerkshire Jewish Community
  Calendar\nhttps://jewishberkshires.org/jewish-federation-of-the-berkshire
 s-calendar/kitah-bet---adult-hebrew-class-1669231485\n\nJoin Rabbi Jodie G
 ordon for an adult Hebrew class held weekly via Zoom. The class is one hou
 r long and meets every Thursday morning at 9:30 a.m.
DTSTART;TZID=America/New_York:20230105T093000
DTEND;TZID=America/New_York:20230105T093000
END:VEVENT
END:VCALENDAR
