BEGIN:VCALENDAR
PRODID:-//eluceo/ical//2.0/EN
VERSION:2.0
CALSCALE:GREGORIAN
BEGIN:VEVENT
UID:c4ca20f59122027118fe35267ac7a720
DTSTAMP:20260422T103235Z
SUMMARY:Kita Bet Plus
DESCRIPTION:Jewish Federation of the Berkshires\nBerkshire Jewish Community
  Calendar\nhttps://jewishberkshires.org/jewish-federation-of-the-berkshire
 s-calendar/kita-bet-plus-1650572323\n\nAdult Hebrew class with Rabbi Jodie
  Gordon.
DTSTART;TZID=America/New_York:20220630T090000
DTEND;TZID=America/New_York:20220630T100000
END:VEVENT
END:VCALENDAR
