BEGIN:VCALENDAR
PRODID:-//eluceo/ical//2.0/EN
VERSION:2.0
CALSCALE:GREGORIAN
BEGIN:VEVENT
UID:2ffe8e7d7b4ca8202c10871b346f0aa5
DTSTAMP:20260424T191914Z
SUMMARY:Kings of Comedy\; Billy Crystal
DESCRIPTION:Jewish Federation of the Berkshires\nBerkshire Jewish Community
  Calendar\nhttps://jewishberkshires.org/jewish-federation-of-the-berkshire
 s-calendar/kings-of-comedy-billy-crystal\n\nKings of Comedy
DTSTART;TZID=America/New_York:20140623T193000
DTEND;TZID=America/New_York:20140623T211500
END:VEVENT
END:VCALENDAR
