BEGIN:VCALENDAR
PRODID:-//eluceo/ical//2.0/EN
VERSION:2.0
CALSCALE:GREGORIAN
BEGIN:VEVENT
UID:096ba246ef2a2f8bc5c07619106e420b
DTSTAMP:20260423T143709Z
SUMMARY:Kings of Comedy
DESCRIPTION:Jewish Federation of the Berkshires\nBerkshire Jewish Community
  Calendar\nhttps://jewishberkshires.org/jewish-federation-of-the-berkshire
 s-calendar/kings-of-comedy-24826\n\nThe Wit of Mel Brooks
DTSTART;TZID=America/New_York:20140616T073000
DTEND;TZID=America/New_York:20140616T211500
END:VEVENT
END:VCALENDAR
