BEGIN:VCALENDAR
PRODID:-//eluceo/ical//2.0/EN
VERSION:2.0
CALSCALE:GREGORIAN
BEGIN:VEVENT
UID:a53c4f431885adfd2d740cef9e6e8ae9
DTSTAMP:20260421T193434Z
SUMMARY:King David in Words and Music
DESCRIPTION:Jewish Federation of the Berkshires\nBerkshire Jewish Community
  Calendar\nhttps://jewishberkshires.org/jewish-federation-of-the-berkshire
 s-calendar/king-david-in-words-and-music-1489760805\n\nThe Cantilena Chamb
 er Choir and Temple Anshe Amunim present King David in Words and Music. Ch
 orus and orchestra program Saturday\, June 3rd\, 7:30pm at trinity Church\
 , 88 walker St. in Lenox\, Sunday Q &amp\; A and book signing at 10am\, Te
 mple Anshe Amunim.
DTSTART;TZID=America/New_York:20170603T193000
DTEND;TZID=America/New_York:20170603T210000
END:VEVENT
END:VCALENDAR
