BEGIN:VCALENDAR
PRODID:-//eluceo/ical//2.0/EN
VERSION:2.0
CALSCALE:GREGORIAN
BEGIN:VEVENT
UID:27ea3a48f902b9954106b14bad9db269
DTSTAMP:20260420T031241Z
SUMMARY:KI Purim Family Carnival 
DESCRIPTION:Jewish Federation of the Berkshires\nBerkshire Jewish Community
  Calendar\nhttps://jewishberkshires.org/jewish-federation-of-the-berkshire
 s-calendar/ki-purim-family-carnival-1421860687\n\nKnesset Israel annual Pu
 rim Family Carnival\nThere will be games\, prizes\, food for sale and hame
 ntashen galore. Be sure to come in costume for our costume parade and cont
 est!
DTSTART;TZID=America/New_York:20150304T164500
DTEND;TZID=America/New_York:20150304T181500
END:VEVENT
END:VCALENDAR
