BEGIN:VCALENDAR
PRODID:-//eluceo/ical//2.0/EN
VERSION:2.0
CALSCALE:GREGORIAN
BEGIN:VEVENT
UID:b8a1b229425ee10725ee06ed5b935e14
DTSTAMP:20260419T171226Z
SUMMARY:KI Chanuka Concert
DESCRIPTION:Jewish Federation of the Berkshires\nBerkshire Jewish Community
  Calendar\nhttps://jewishberkshires.org/jewish-federation-of-the-berkshire
 s-calendar/ki-chanuka-concert-1605731174\n\nCelebrate Chanukah with KI - w
 ith havdala\, virtual concert\, menorah lighting\, and fundraiser for KI H
 ebrew School\nhttps://knessetisrael.org/livestream
DTSTART;TZID=America/New_York:20201212T190000
DTEND;TZID=America/New_York:20201212T210000
END:VEVENT
END:VCALENDAR
