BEGIN:VCALENDAR
PRODID:-//eluceo/ical//2.0/EN
VERSION:2.0
CALSCALE:GREGORIAN
BEGIN:VEVENT
UID:41baeba4865e02492cdd974f9c7e4747
DTSTAMP:20260424T071218Z
SUMMARY:KI Board Meeting
DESCRIPTION:Jewish Federation of the Berkshires\nBerkshire Jewish Community
  Calendar\nhttps://jewishberkshires.org/jewish-federation-of-the-berkshire
 s-calendar/ki-board-meeting-1411055690\n\nKI Board Meeting
DTSTART;TZID=America/New_York:20150916T193000
DTEND;TZID=America/New_York:20150916T213000
END:VEVENT
END:VCALENDAR
