BEGIN:VCALENDAR
PRODID:-//eluceo/ical//2.0/EN
VERSION:2.0
CALSCALE:GREGORIAN
BEGIN:VEVENT
UID:3fa44ce20b824f2abc0a673f7f1e2292
DTSTAMP:20260419T123614Z
SUMMARY:KI Board Meeting
DESCRIPTION:Jewish Federation of the Berkshires\nBerkshire Jewish Community
  Calendar\nhttps://jewishberkshires.org/jewish-federation-of-the-berkshire
 s-calendar/ki-board-meeting-1411055531\n\nKI Board Meeting
DTSTART;TZID=America/New_York:20150819T193000
DTEND;TZID=America/New_York:20150819T213000
END:VEVENT
END:VCALENDAR
