BEGIN:VCALENDAR
PRODID:-//eluceo/ical//2.0/EN
VERSION:2.0
CALSCALE:GREGORIAN
BEGIN:VEVENT
UID:766fc2c01e4da7044047133033d68948
DTSTAMP:20260422T120006Z
SUMMARY:KI Board Meeting
DESCRIPTION:Jewish Federation of the Berkshires\nBerkshire Jewish Community
  Calendar\nhttps://jewishberkshires.org/jewish-federation-of-the-berkshire
 s-calendar/ki-board-meeting-1411055088\n\nKI Board Meeting
DTSTART;TZID=America/New_York:20150520T193000
DTEND;TZID=America/New_York:20150520T213000
END:VEVENT
END:VCALENDAR
