BEGIN:VCALENDAR
PRODID:-//eluceo/ical//2.0/EN
VERSION:2.0
CALSCALE:GREGORIAN
BEGIN:VEVENT
UID:9eed11bb722dc26e1d89829dfd6cd547
DTSTAMP:20260421T141108Z
SUMMARY:KI Board Meeting
DESCRIPTION:Jewish Federation of the Berkshires\nBerkshire Jewish Community
  Calendar\nhttps://jewishberkshires.org/jewish-federation-of-the-berkshire
 s-calendar/ki-board-meeting-1411053950\n\nKI Board Meeting
DTSTART;TZID=America/New_York:20141217T193000
DTEND;TZID=America/New_York:20141217T213000
END:VEVENT
END:VCALENDAR
