BEGIN:VCALENDAR
PRODID:-//eluceo/ical//2.0/EN
VERSION:2.0
CALSCALE:GREGORIAN
BEGIN:VEVENT
UID:f0f83dfb9d1379970683d7e9ffca7e4e
DTSTAMP:20260423T124928Z
SUMMARY:KI Board Meeting
DESCRIPTION:Jewish Federation of the Berkshires\nBerkshire Jewish Community
  Calendar\nhttps://jewishberkshires.org/jewish-federation-of-the-berkshire
 s-calendar/ki-board-meeting-1411053814\n\nKI Board Meeting
DTSTART;TZID=America/New_York:20141119T193000
DTEND;TZID=America/New_York:20141119T213000
END:VEVENT
END:VCALENDAR
