BEGIN:VCALENDAR
PRODID:-//eluceo/ical//2.0/EN
VERSION:2.0
CALSCALE:GREGORIAN
BEGIN:VEVENT
UID:f9b7900170da13a15d3068dab48910e7
DTSTAMP:20260422T133442Z
SUMMARY:KI 125th Anniversary Gala
DESCRIPTION:Jewish Federation of the Berkshires\nBerkshire Jewish Community
  Calendar\nhttps://jewishberkshires.org/jewish-federation-of-the-berkshire
 s-calendar/ki-125th-anniversary-gala-1548949024\n\nKI 125th Anniversary Ga
 la
DTSTART;TZID=America/New_York:20190701T173000
DTEND;TZID=America/New_York:20190701T203000
END:VEVENT
END:VCALENDAR
