BEGIN:VCALENDAR
PRODID:-//eluceo/ical//2.0/EN
VERSION:2.0
CALSCALE:GREGORIAN
BEGIN:VEVENT
UID:1dd45db49669a15d51d7548e62834d04
DTSTAMP:20260419T162210Z
SUMMARY:Kabbalah workshops in the Berkshires
DESCRIPTION:Jewish Federation of the Berkshires\nBerkshire Jewish Community
  Calendar\nhttps://jewishberkshires.org/jewish-federation-of-the-berkshire
 s-calendar/kabbalh-workshops-in-the-berkshires-1435864240\n\nChabad of the
  Berkshires presents\n\nKabbalah Workshops in the Berkshires\n\nJuly 9\n1 
 PM- The Spiritual origins of Liberalism and Conservatism. The Redemptive m
 arriage of the future.\nThe level of political tension between liberals an
 d conservatives seems to be continually intensifying. Which side is the To
 rah on?\n\n2 PM- Mind Control: The power of Our Thought\, Speech and Actio
 ns\nDoes it really matter what we think if we don't ever speak those thoug
 hts\, let alone act on them? Learn how the...
DTSTART;TZID=America/New_York:20150709T130000
DTEND;TZID=America/New_York:20150709T150000
END:VEVENT
END:VCALENDAR
