BEGIN:VCALENDAR
PRODID:-//eluceo/ical//2.0/EN
VERSION:2.0
CALSCALE:GREGORIAN
BEGIN:VEVENT
UID:7cbb3e6fc3efb846cce9374950f6af9e
DTSTAMP:20260420T062918Z
SUMMARY:JWF Wednesday Winter Matinee Arts Series
DESCRIPTION:Jewish Federation of the Berkshires\nBerkshire Jewish Community
  Calendar\nhttps://jewishberkshires.org/jewish-federation-of-the-berkshire
 s-calendar/jwf-wednesday-winter-matinee-arts-series-1609775592\n\nIn the s
 econd of this three-part series \, please join us for an exclusive discuss
 ion with renowned author James Carroll about his book "The Cloister" (from
  the conversations between a Catholic priest and a Jewish woman in mid-twe
 ntieth century New York) to be facilitated by Geri Liemer.  The third in t
 he series will take place on March 10\, 2021 (Movie Discussion: "Everythin
 g is Illuminated").\n
DTSTART;TZID=America/New_York:20210210T140000
DTEND;TZID=America/New_York:20210210T160000
END:VEVENT
END:VCALENDAR
