BEGIN:VCALENDAR
PRODID:-//eluceo/ical//2.0/EN
VERSION:2.0
CALSCALE:GREGORIAN
BEGIN:VEVENT
UID:8deb435cb1ecd00067f42beaac0d9d04
DTSTAMP:20260421T113951Z
SUMMARY:Jewish Womens Foundation General Membership Meeting
DESCRIPTION:Jewish Federation of the Berkshires\nBerkshire Jewish Community
  Calendar\nhttps://jewishberkshires.org/jewish-federation-of-the-berkshire
 s-calendar/jwf-general-meeting-\n\nJWF General Meeting
DTSTART;TZID=America/New_York:20170825T093000
DTEND;TZID=America/New_York:20170825T113000
END:VEVENT
END:VCALENDAR
