BEGIN:VCALENDAR
PRODID:-//eluceo/ical//2.0/EN
VERSION:2.0
CALSCALE:GREGORIAN
BEGIN:VEVENT
UID:615bf94515887297d8195cb0f2b980ce
DTSTAMP:20260419T200627Z
SUMMARY:JWF Card Party
DESCRIPTION:Jewish Federation of the Berkshires\nBerkshire Jewish Community
  Calendar\nhttps://jewishberkshires.org/jewish-federation-of-the-berkshire
 s-calendar/jwf-card-party-1681141266\n\nJWF Card Party at the Pittsfield C
 ountry CLub
DTSTART;TZID=America/New_York:20230818T110000
DTEND;TZID=America/New_York:20230818T150000
END:VEVENT
END:VCALENDAR
