BEGIN:VCALENDAR
PRODID:-//eluceo/ical//2.0/EN
VERSION:2.0
CALSCALE:GREGORIAN
BEGIN:VEVENT
UID:6852bb476159a49dff4ad0f13f074e9f
DTSTAMP:20260419T190942Z
SUMMARY:Just Mercy Book Discussion
DESCRIPTION:Jewish Federation of the Berkshires\nBerkshire Jewish Community
  Calendar\nhttps://jewishberkshires.org/jewish-federation-of-the-berkshire
 s-calendar/just-mercy-book-discussion-1443801929\n\nWe well know that race
  relations continues to be a critical national conversation. The Religious
  Action Center\, on behalf of the Reform Jewish movement\, continues to ad
 vocate for civil rights and greater structural equality. We as a community
  can also do much to take part in our movement's work. This begins with ed
 ucating ourselves.\n\nBryan Stevenson is the founding director of the Equa
 l Justice Initiative in Montgomery\, Alabama. His best-selling memoir\, Ju
 st Mercy: A Story of Justice and Re...
DTSTART;TZID=America/New_York:20151028T114500
DTEND;TZID=America/New_York:20151028T180000
END:VEVENT
END:VCALENDAR
