BEGIN:VCALENDAR
PRODID:-//eluceo/ical//2.0/EN
VERSION:2.0
CALSCALE:GREGORIAN
BEGIN:VEVENT
UID:86d769df1f98fd4e63d484c4c7d48bbc
DTSTAMP:20260420T072747Z
SUMMARY:Julie Silver in concert at Hevreh of Southern Berkshire
DESCRIPTION:Jewish Federation of the Berkshires\nBerkshire Jewish Community
  Calendar\nhttps://jewishberkshires.org/jewish-federation-of-the-berkshire
 s-calendar/julie-silver-in-concert-at-hevreh-of-southern-berkshire-1430502
 338\n\nJulie Silver is a singer songwriter who has engaged her audiences w
 ith her lyrical guitar playing and her engaging stage presence for over 25
  years.  She has sold more than 100\,000 copies of her CDs   Her songs hav
 e become so tightly woven into the fabric of American Judaism that they ha
 ve become "standards" in worship\, camp\, and academic settings.
DTSTART;TZID=America/New_York:20150517T120000
DTEND;TZID=America/New_York:20150517T131500
END:VEVENT
END:VCALENDAR
