BEGIN:VCALENDAR
PRODID:-//eluceo/ical//2.0/EN
VERSION:2.0
CALSCALE:GREGORIAN
BEGIN:VEVENT
UID:78ddd155622c54fadb634d1473927ef5
DTSTAMP:20260421T233932Z
SUMMARY:Judith Schumer presents her new book\, In the Presence of My Enemie
 s.
DESCRIPTION:Jewish Federation of the Berkshires\nBerkshire Jewish Community
  Calendar\nhttps://jewishberkshires.org/jewish-federation-of-the-berkshire
 s-calendar/judith-schumer-presents-her-new-book-in-the-presence-of-my-enem
 ies-1519061335\n\nIn the Presence of My Enemies is the story of Holocaust 
 survivor Adam Zurawin who was labeled as a Nazi collaborator.\nAfter more 
 than 20 years of waiting\, Reno author Judith Schumer has finally publishe
 d In the Presence of My Enemies\, but Schumer says that claim is not true 
 and wants to set the record straight. “This is the story of a unique man
 \, who in one of the darkest periods of Jewish history did what he could t
 o save others\, to save himself\, to rescue as many Jews as he possibly co
 ul...
DTSTART;TZID=America/New_York:20180719T190000
DTEND;TZID=America/New_York:20180719T203000
END:VEVENT
END:VCALENDAR
