BEGIN:VCALENDAR
PRODID:-//eluceo/ical//2.0/EN
VERSION:2.0
CALSCALE:GREGORIAN
BEGIN:VEVENT
UID:dbcec4c4b950a8f8af3689c59abedf4d
DTSTAMP:20260420T221201Z
SUMMARY:"Judaism Disrupted" follow-up discussion #2
DESCRIPTION:Jewish Federation of the Berkshires\nBerkshire Jewish Community
  Calendar\nhttps://jewishberkshires.org/jewish-federation-of-the-berkshire
 s-calendar/judaism-disrupted-follow-up-discussion-2-1683212038\n\nRabbi Pa
 mela Wax will convene the second of two conversations about Rabbi Michael 
 Strassfeld's book "Judaism Disrupted: A Spiritual Manifesto for the 21st C
 entury."The book can be purchased at a discount from the KI office during 
 regular business hours. Feel free to attend this lively conversation follo
 wing Shabbat morning services\, regardless of whether you’ve read the bo
 ok or attended the previous discussion.
DTSTART;TZID=America/New_York:20230826T123000
DTEND;TZID=America/New_York:20230826T133000
END:VEVENT
END:VCALENDAR
