BEGIN:VCALENDAR
PRODID:-//eluceo/ical//2.0/EN
VERSION:2.0
CALSCALE:GREGORIAN
BEGIN:VEVENT
UID:b9cceadf95a7140710e9604bd83ae5fd
DTSTAMP:20260420T143206Z
SUMMARY:"Judaism Disrupted" Follow-up Discussion #1
DESCRIPTION:Jewish Federation of the Berkshires\nBerkshire Jewish Community
  Calendar\nhttps://jewishberkshires.org/jewish-federation-of-the-berkshire
 s-calendar/judaism-disrupted-follow-up-discussion-1-1683211791\n\nRabbi Pa
 mela Wax will convene the first of two conversations about Rabbi Michael S
 trassfeld's book "Judaism Disrupted: A Spiritual Manifesto for the 21st Ce
 ntury." (The second conversation will take place following services on Sat
 urday\, August 26.) The book can be purchased at a discount from the KI of
 fice during regular business hours. Attend one or both lively conversation
 s\, regardless of whether you’ve read the book and whether or not you at
 tended Rabbi Strassfeld's lunch-and-learn progr...
DTSTART;TZID=America/New_York:20230730T100000
DTEND;TZID=America/New_York:20230730T231500
END:VEVENT
END:VCALENDAR
