BEGIN:VCALENDAR
PRODID:-//eluceo/ical//2.0/EN
VERSION:2.0
CALSCALE:GREGORIAN
BEGIN:VEVENT
UID:7150b56914191570ebfde28778548d1b
DTSTAMP:20260420T015829Z
SUMMARY:JTS in the Berkshires "Spiritual Leadership For A New Era"
DESCRIPTION:Jewish Federation of the Berkshires\nBerkshire Jewish Community
  Calendar\nhttps://jewishberkshires.org/jewish-federation-of-the-berkshire
 s-calendar/jts-in-the-berkshires-spiritual-leadership-for-a-new-era\n\nReg
 ister Here\n\n$15 per session\n\nRabbi Ayelet Cohen\, Pearl Resnick Dean o
 f the Rabbinical School\, will teach: “SPIRITUAL LEADERSHIP FOR A NEW ER
 A."\n\nWhat kinds of challenges and opportunities confound religious leade
 rs today?  Through an exploration of rabbinic\, liturgical\, and contempo
 rary poetic texts\, JTS’s newly appointed Dean of the Rabbinical School 
 and Division of Religious Leadership will share her vision for the future.
 \n\nJTS in the Berkshires is presented in partnership w...
DTSTART;TZID=America/New_York:20220812T110000
DTEND;TZID=America/New_York:20220812T123000
END:VEVENT
END:VCALENDAR
