BEGIN:VCALENDAR
PRODID:-//eluceo/ical//2.0/EN
VERSION:2.0
CALSCALE:GREGORIAN
BEGIN:VEVENT
UID:55d7950734235cbc2892a83316f065cc
DTSTAMP:20260421T015309Z
SUMMARY:JTS in the Berkshires
DESCRIPTION:Jewish Federation of the Berkshires\nBerkshire Jewish Community
  Calendar\nhttps://jewishberkshires.org/jewish-federation-of-the-berkshire
 s-calendar/jts-in-the-berkshires-1734706784\n\nFinding Truth (and God)\, W
 ithout a Doubt\n\nJoin Knesset Israel for a scintillating lecture and disc
 ussion with Rabbi Gordon Tucker\, PhD\, Vice Chancellor for Religious Life
  and Engagement\, Jewish Theological Seminary in New York City. Part of ou
 r annual JTS in the Berkshires series. This event will take place at the E
 layne P. Bernstein Theatre at Shakespeare and Company.
DTSTART;TZID=America/New_York:20250808T110000
DTEND;TZID=America/New_York:20250808T123000
END:VEVENT
END:VCALENDAR
