BEGIN:VCALENDAR
PRODID:-//eluceo/ical//2.0/EN
VERSION:2.0
CALSCALE:GREGORIAN
BEGIN:VEVENT
UID:186132d2b3c6a40e3609a678181beebc
DTSTAMP:20260422T031226Z
SUMMARY:JTS in the Berkshires
DESCRIPTION:Jewish Federation of the Berkshires\nBerkshire Jewish Community
  Calendar\nhttps://jewishberkshires.org/jewish-federation-of-the-berkshire
 s-calendar/jts-in-the-berkshires-1480700017\n\nFour professors from the Je
 wish Theological Seminary will each discuss an aspect of the 2017 theme: T
 imes of Crisis: Try Moments and Great Possibilities
DTSTART;TZID=America/New_York:20170707T110000
DTEND;TZID=America/New_York:20170707T123000
END:VEVENT
END:VCALENDAR
