BEGIN:VCALENDAR
PRODID:-//eluceo/ical//2.0/EN
VERSION:2.0
CALSCALE:GREGORIAN
BEGIN:VEVENT
UID:1f0dd93d9651a58deecf3c1ea722b499
DTSTAMP:20260424T094148Z
SUMMARY:JTS in the Berkshires:  WHAT CAN THE BIBLE TEACH US ABOUT WAGNER?
DESCRIPTION:Jewish Federation of the Berkshires\nBerkshire Jewish Community
  Calendar\nhttps://jewishberkshires.org/jewish-federation-of-the-berkshire
 s-calendar/jts-in-the-berkshires--what-can-the-bible-teach-us-about-wagner
 -1557345928\n\nWHAT CAN THE BIBLE TEACH US ABOUT WAGNER? JEWISH VIEWS ON T
 HE IMPERFECT MESSENGERDr. David Kraemer\, Joseph J. and Dora Abell Librari
 an and Professor of Talmud and Rabbinics Richard Wagner\, T.S. Eliot\, Sha
 kespeare…Does Judaism allow one to separate the “message” from the 
 “messenger?” Can the handiwork of the sinner\, if not the sinner him- 
 or herself\, be allowed into the community? Register at www.jtsa.edu/Berks
 hires or buy tickets at the door: $15 per session\; $45 for series.
DTSTART;TZID=America/New_York:20190726T110000
DTEND;TZID=America/New_York:20190726T123000
END:VEVENT
END:VCALENDAR
