BEGIN:VCALENDAR
PRODID:-//eluceo/ical//2.0/EN
VERSION:2.0
CALSCALE:GREGORIAN
BEGIN:VEVENT
UID:8b34dab6a0049466e7afec19a5275940
DTSTAMP:20260424T154745Z
SUMMARY:JTS in the Berkshires - Rabbi Eliezer Diamond and Rabbi Juday Nadic
 h
DESCRIPTION:Jewish Federation of the Berkshires\nBerkshire Jewish Community
  Calendar\nhttps://jewishberkshires.org/jewish-federation-of-the-berkshire
 s-calendar/jts-in-the-berkshires---dr-alan-mittleman---is-nature-sacred-15
 24746478\n\nRabbi Eliezer Diamond and Rabbi Juday Nadich\, Associate Profe
 ssor of Talmud and Rabbinics\n\nTHINKING WITH TREES:WHAT ONE VERSE REVEALS
  ABOUT OUR RELATIONSHIP TO  NATURE\n\n $25. Register at jtsa.edu/Berkshi
 res.\n\nThis event is co-sponsored by the Jewish Federation of the Berkshi
 res
DTSTART;TZID=America/New_York:20180810T110000
DTEND;TZID=America/New_York:20180810T123000
END:VEVENT
END:VCALENDAR
