BEGIN:VCALENDAR
PRODID:-//eluceo/ical//2.0/EN
VERSION:2.0
CALSCALE:GREGORIAN
BEGIN:VEVENT
UID:d957cc730f5a0b17a9204a9c0042e73e
DTSTAMP:20260424T093948Z
SUMMARY:JTS Chancellor Shuly Rubin Schwartz at KI
DESCRIPTION:Jewish Federation of the Berkshires\nBerkshire Jewish Community
  Calendar\nhttps://jewishberkshires.org/jewish-federation-of-the-berkshire
 s-calendar/jts-chancellor-shuly-rubin-schwartz-at-ki-1736439565\n\nDr. Shu
 ly Rubin Schwartz\, a groundbreaking scholar of American Jewish history an
 d the visionary chancellor of the Jewish Theological Seminary\, will speak
  following Shabbat services and a community Shabbat dinner at Congregation
  Knesset Israel. Services and talk are free to the public. Dinner is $25 p
 er person.\n\nUnderstanding the Secret Sauce of 20th Century Conservative 
 Judaism: Conservative Judaism provided a captivating vision for a Judaism
 —traditional in orientation and embracing of e...
DTSTART;TZID=America/New_York:20250711T183000
DTEND;TZID=America/New_York:20250711T210000
END:VEVENT
END:VCALENDAR
