BEGIN:VCALENDAR
PRODID:-//eluceo/ical//2.0/EN
VERSION:2.0
CALSCALE:GREGORIAN
BEGIN:VEVENT
UID:a042c83ce46db110089b0dabd58335eb
DTSTAMP:20260424T205109Z
SUMMARY:JTS  in the Berkshires
DESCRIPTION:Jewish Federation of the Berkshires\nBerkshire Jewish Community
  Calendar\nhttps://jewishberkshires.org/jewish-federation-of-the-berkshire
 s-calendar/jts--in-the-berkshires-1480700474\n\nFour professors from the J
 ewish Theological Seminary will each discuss an aspect of the 2017 theme: 
 Times of Crisis: Try Moments and Great Possibilities
DTSTART;TZID=America/New_York:20170818T110000
DTEND;TZID=America/New_York:20170818T123000
END:VEVENT
END:VCALENDAR
