BEGIN:VCALENDAR
PRODID:-//eluceo/ical//2.0/EN
VERSION:2.0
CALSCALE:GREGORIAN
BEGIN:VEVENT
UID:71c15e145eb45454da896d8db75119bb
DTSTAMP:20260425T191115Z
SUMMARY:JTS  in the Berkshires
DESCRIPTION:Jewish Federation of the Berkshires\nBerkshire Jewish Community
  Calendar\nhttps://jewishberkshires.org/jewish-federation-of-the-berkshire
 s-calendar/jts--in-the-berkshires-1462800363\n\nRabbi Burton L. Visotzky\,
  Nathan and Janet Appleman Professor of Midrash and Interreligious Studies
 \, “ Approaching the Other: Reflections on Current Jewish Interreligious
  Dialogue”Registration is on-line at www.jtsa.edu/berkshires. For more i
 nformation\, contact Lynn Feinman at (212) 678-8821 or Myrna Hammerling at
  (413) 445-4872 x. 16.Sessions are $25 for each program\, or $85 for all f
 our.
DTSTART;TZID=America/New_York:20160805T110000
DTEND;TZID=America/New_York:20160805T123000
END:VEVENT
END:VCALENDAR
