BEGIN:VCALENDAR
PRODID:-//eluceo/ical//2.0/EN
VERSION:2.0
CALSCALE:GREGORIAN
BEGIN:VEVENT
UID:f26f34025fdf46185b24b3e4e6e8bce0
DTSTAMP:20260424T063422Z
SUMMARY:JTS  in the Berkshires
DESCRIPTION:Jewish Federation of the Berkshires\nBerkshire Jewish Community
  Calendar\nhttps://jewishberkshires.org/jewish-federation-of-the-berkshire
 s-calendar/jts--in-the-berkshires-1462800159\n\n— Rabbi David Hoffman\, 
 Vice Chancellor and Chief Advancement Officer: “Redrawing the Boundary B
 etween Jew and Other: Maimonides on Faith”Registration is on-line at www
 .jtsa.edu/berkshires. For more information\, contact Lynn Feinman at (212)
  678-8821 or Myrna Hammerling at (413) 445-4872 x. 16. Sessions are $25 fo
 r each program\, or $85 for all four.
DTSTART;TZID=America/New_York:20160722T110000
DTEND;TZID=America/New_York:20160722T123000
END:VEVENT
END:VCALENDAR
