BEGIN:VCALENDAR
PRODID:-//eluceo/ical//2.0/EN
VERSION:2.0
CALSCALE:GREGORIAN
BEGIN:VEVENT
UID:976de30d304edefaeb92a5fc5521942d
DTSTAMP:20260424T000634Z
SUMMARY:JTS  in the Berkshires
DESCRIPTION:Jewish Federation of the Berkshires\nBerkshire Jewish Community
  Calendar\nhttps://jewishberkshires.org/jewish-federation-of-the-berkshire
 s-calendar/jts--in-the-berkshires-1462799913\n\nDr. Marjorie Lehman\, Asso
 ciate Professor of Talmud and Rabbinics: “Women in the House of Study: A
 nxiety\, Difference\, and the Dangers of Exclusion”Registration is on-li
 ne at www.jtsa.edu/berkshires. For more information\, contact Lynn Feinman
  at (212) 678-8821 or Myrna Hammerling at (413) 445-4872 x. 16. Sessions a
 re $25 for each program\, or $85 for all four.
DTSTART;TZID=America/New_York:20160708T110000
DTEND;TZID=America/New_York:20160708T123000
END:VEVENT
END:VCALENDAR
