BEGIN:VCALENDAR
PRODID:-//eluceo/ical//2.0/EN
VERSION:2.0
CALSCALE:GREGORIAN
BEGIN:VEVENT
UID:860dc93c22de2b3c28fd22d4e7f92beb
DTSTAMP:20260421T065944Z
SUMMARY:Journey to Jewish Rome - 2 part virtual tour of Italy
DESCRIPTION:Jewish Federation of the Berkshires\nBerkshire Jewish Community
  Calendar\nhttps://jewishberkshires.org/jewish-federation-of-the-berkshire
 s-calendar/journey-to-jewish-rome-2-part-virtual-tour-of-italy----\n\nVia 
 Zoom\n\nRegister Here\n\nMussolini\, War and Italian Occupation\n\nSavor a
 n espresso and slip on your virtual traveling shoes and Zoom straight to R
 ome for a fun\, passionate\, and personal tour of Rome’s Jewish history
  and culture with guide\, Micaela Pavoncello. Micaela’s Jewish family i
 n Rome goes back over 2000 years\, and she absolutely knows the Piazza (gh
 etto) – its people\, stories\, and spirit. She knows everyone from the C
 hief Rabbi to the humble store keepers and leading chefs...
DTSTART;TZID=America/New_York:20211220T100000
DTEND;TZID=America/New_York:20211220T110000
END:VEVENT
END:VCALENDAR
