BEGIN:VCALENDAR
PRODID:-//eluceo/ical//2.0/EN
VERSION:2.0
CALSCALE:GREGORIAN
BEGIN:VEVENT
UID:9b1825da08ac47a5c64e3f947817a651
DTSTAMP:20260421T231503Z
SUMMARY:Joint Torah Study with Hevreh and the Berkshire Minyan with Lou Lev
 ine
DESCRIPTION:Jewish Federation of the Berkshires\nBerkshire Jewish Community
  Calendar\nhttps://jewishberkshires.org/jewish-federation-of-the-berkshire
 s-calendar/joint-torah-study-with-hevreh-and-the-berkshire-minyan-with-lou
 -levine-1422288694\n\nThe topic of this study will be the text of The Mour
 ner's Kaddish\, we will look at accompanying biblical texts as we seek to 
 answer the question "why is this the text we say when in mourning?'
DTSTART;TZID=America/New_York:20150207T110000
DTEND;TZID=America/New_York:20150207T130000
END:VEVENT
END:VCALENDAR
