BEGIN:VCALENDAR
PRODID:-//eluceo/ical//2.0/EN
VERSION:2.0
CALSCALE:GREGORIAN
BEGIN:VEVENT
UID:aed96bbae9183db9edd4ecc66dc75ab9
DTSTAMP:20260425T001530Z
SUMMARY:Joey Weisenberg in Concert to benefit Congregation Ahavath Sholom
DESCRIPTION:Jewish Federation of the Berkshires\nBerkshire Jewish Community
  Calendar\nhttps://jewishberkshires.org/jewish-federation-of-the-berkshire
 s-calendar/joey-weisenberg-in-concert-to-benefit-congregation-ahavath-shol
 om-1754252136\n\nJoin Joey Weisenberg and Congregation Ahavath Sholom for 
 an afternoon of song and celebration. Joey Weisenberg is a visionary musi
 cian\, composer\, and founder of Hadar's Rising Song Institute. Known for 
 his soul-stirring melodies and collaborative spirit\, he has transformed J
 ewish communal music-making across the country. His work draws from Americ
 an roots\, Ashkenazi nusah\, and global sacred music traditions.
DTSTART;TZID=America/New_York:20260517T150000
DTEND;TZID=America/New_York:20260517T180000
END:VEVENT
END:VCALENDAR
