BEGIN:VCALENDAR
PRODID:-//eluceo/ical//2.0/EN
VERSION:2.0
CALSCALE:GREGORIAN
BEGIN:VEVENT
UID:0f285ba768f67fb4e54b145d04dd813e
DTSTAMP:20260421T004855Z
SUMMARY:Joanie Leeds: Free Family Concert Celebrating Super Sunday!
DESCRIPTION:Jewish Federation of the Berkshires\nBerkshire Jewish Community
  Calendar\nhttps://jewishberkshires.org/jewish-federation-of-the-berkshire
 s-calendar/joanie-leeds\n\n
DTSTART;TZID=America/New_York:20170521T100000
DTEND;TZID=America/New_York:20170521T113000
END:VEVENT
END:VCALENDAR
