BEGIN:VCALENDAR
PRODID:-//eluceo/ical//2.0/EN
VERSION:2.0
CALSCALE:GREGORIAN
BEGIN:VEVENT
UID:59cba4c6a725a8613779297c449163a7
DTSTAMP:20260422T050447Z
SUMMARY:All Star Musical Passover Seder
DESCRIPTION:Jewish Federation of the Berkshires\nBerkshire Jewish Community
  Calendar\nhttps://jewishberkshires.org/jewish-federation-of-the-berkshire
 s-calendar/jkids-radio-musical-passover-seder\n\nPassover program for PJ L
 ibrary\, Federation Families\, and friends
DTSTART;TZID=America/New_York:20210321T170000
DTEND;TZID=America/New_York:20210321T180000
END:VEVENT
END:VCALENDAR
