BEGIN:VCALENDAR
PRODID:-//eluceo/ical//2.0/EN
VERSION:2.0
CALSCALE:GREGORIAN
BEGIN:VEVENT
UID:7429625a048228bf7a0fd59e0851471e
DTSTAMP:20260424T052418Z
SUMMARY:Supermarket Sweepstakes\, Federation Family Mitzvah Day
DESCRIPTION:Jewish Federation of the Berkshires\nBerkshire Jewish Community
  Calendar\nhttps://jewishberkshires.org/jewish-federation-of-the-berkshire
 s-calendar/jfbpj-library-family-funday-supermarket-sweepstakes\n\nSupermar
 ket Sweeps - Sunday\, November 6 at 4 pm.  Ready\, Set. Go! Families are i
 nvited to "sweep" through the supermarket while solving riddles in order t
 o find much needed food items for local food pantires.
DTSTART;TZID=America/New_York:20161106T160000
DTEND;TZID=America/New_York:20161106T180000
END:VEVENT
END:VCALENDAR
