BEGIN:VCALENDAR
PRODID:-//eluceo/ical//2.0/EN
VERSION:2.0
CALSCALE:GREGORIAN
BEGIN:VEVENT
UID:bd53fb0aa24ff644e17b9b0bc2ea8180
DTSTAMP:20260424T103631Z
SUMMARY:JFB Scholarship Committee mtg
DESCRIPTION:Jewish Federation of the Berkshires\nBerkshire Jewish Community
  Calendar\nhttps://jewishberkshires.org/jewish-federation-of-the-berkshire
 s-calendar/jfb-scholarship-committee-mtg\n\nJFB Scholarship Committee mtg
DTSTART;TZID=America/New_York:20130205T100000
DTEND;TZID=America/New_York:20130205T120000
END:VEVENT
END:VCALENDAR
