BEGIN:VCALENDAR
PRODID:-//eluceo/ical//2.0/EN
VERSION:2.0
CALSCALE:GREGORIAN
BEGIN:VEVENT
UID:423dfe8588a2816feba5a139916ee9f6
DTSTAMP:20260423T014410Z
SUMMARY:JFB Scholarship Committee meeting
DESCRIPTION:Jewish Federation of the Berkshires\nBerkshire Jewish Community
  Calendar\nhttps://jewishberkshires.org/jewish-federation-of-the-berkshire
 s-calendar/jfb-scholarship-committee-meeting\n\nJFB  Scholarship Committee
  meeting
DTSTART;TZID=America/New_York:20130508T093000
DTEND;TZID=America/New_York:20130508T113000
END:VEVENT
END:VCALENDAR
