BEGIN:VCALENDAR
PRODID:-//eluceo/ical//2.0/EN
VERSION:2.0
CALSCALE:GREGORIAN
BEGIN:VEVENT
UID:b4cffd73d746e79f4640c37cd43d5904
DTSTAMP:20260423T005725Z
SUMMARY:"The Great American Jewish Author" with Hugh Black
DESCRIPTION:Jewish Federation of the Berkshires\nBerkshire Jewish Community
  Calendar\nhttps://jewishberkshires.org/jewish-federation-of-the-berkshire
 s-calendar/jfb-program-the-great-american-jewish-author-with-hugh-black1\n
 \nJewish Federation of the Berkshires will present "The Great American Jew
 ish Author" with Hugh Black
DTSTART;TZID=America/New_York:20160314T104500
DTEND;TZID=America/New_York:20160314T120000
END:VEVENT
END:VCALENDAR
