BEGIN:VCALENDAR
PRODID:-//eluceo/ical//2.0/EN
VERSION:2.0
CALSCALE:GREGORIAN
BEGIN:VEVENT
UID:7c10b3bc13a2d79e19b7844c2180b33b
DTSTAMP:20260422T235352Z
SUMMARY:JFB Program "QiGong-A Simple\, Natural Exercise to Enhance your Wel
 l-Being"
DESCRIPTION:Jewish Federation of the Berkshires\nBerkshire Jewish Community
  Calendar\nhttps://jewishberkshires.org/jewish-federation-of-the-berkshire
 s-calendar/jfb-program-qigong-a-simple-natural-exercise-to-enhance-your-we
 ll-being\n\n"QiGong - A Simple\, Natural Exercise to Enhance your Well-Bei
 ng" with acupuncturist and Qigong instructor\, Jeffrey Gordon.
DTSTART;TZID=America/New_York:20141211T130000
DTEND;TZID=America/New_York:20141211T143000
END:VEVENT
END:VCALENDAR
