BEGIN:VCALENDAR
PRODID:-//eluceo/ical//2.0/EN
VERSION:2.0
CALSCALE:GREGORIAN
BEGIN:VEVENT
UID:5a54363d5a7aa687ef459d945396212d
DTSTAMP:20260424T170214Z
SUMMARY:JFB Program Pilates for Posture and Balance
DESCRIPTION:Jewish Federation of the Berkshires\nBerkshire Jewish Community
  Calendar\nhttps://jewishberkshires.org/jewish-federation-of-the-berkshire
 s-calendar/jfb-program-pilates-for-posture-and-balance\n\nJFB Program Pila
 tes for Posture and Balance
DTSTART;TZID=America/New_York:20140206T130000
DTEND;TZID=America/New_York:20140206T150000
END:VEVENT
END:VCALENDAR
