BEGIN:VCALENDAR
PRODID:-//eluceo/ical//2.0/EN
VERSION:2.0
CALSCALE:GREGORIAN
BEGIN:VEVENT
UID:69e3218efebb6e03a7b66f1ed4e9d41b
DTSTAMP:20260425T220657Z
SUMMARY:JFB Program "Neuroplasticity: Changing Your Mind"
DESCRIPTION:Jewish Federation of the Berkshires\nBerkshire Jewish Community
  Calendar\nhttps://jewishberkshires.org/jewish-federation-of-the-berkshire
 s-calendar/jfb-program-neuroplasticity-changing-your-mind\n\nThe Jewish Fe
 deration of the Berkshires will present "Neuroplasticity: Changing Your Mi
 nd" with Speech-Language Pathologist\, Jane Apkin
DTSTART;TZID=America/New_York:20150122T130000
DTEND;TZID=America/New_York:20150122T143000
END:VEVENT
END:VCALENDAR
