BEGIN:VCALENDAR
PRODID:-//eluceo/ical//2.0/EN
VERSION:2.0
CALSCALE:GREGORIAN
BEGIN:VEVENT
UID:b0156a4afa2158387288d3efacb21fb2
DTSTAMP:20260422T160543Z
SUMMARY:JFB Program "Ageless Grace" with certified teacher\, Jane Rosen
DESCRIPTION:Jewish Federation of the Berkshires\nBerkshire Jewish Community
  Calendar\nhttps://jewishberkshires.org/jewish-federation-of-the-berkshire
 s-calendar/jfb-program-ageless-grace-with-certified-teacher-jane-rosen\n\n
 "Ageless Grace" with certified teacher\, Jane Rosen. 
DTSTART;TZID=America/New_York:20141229T130000
DTEND;TZID=America/New_York:20141229T143000
END:VEVENT
END:VCALENDAR
