BEGIN:VCALENDAR
PRODID:-//eluceo/ical//2.0/EN
VERSION:2.0
CALSCALE:GREGORIAN
BEGIN:VEVENT
UID:bbe1dc6db438b2aff4a8a926543b9508
DTSTAMP:20260419T121115Z
SUMMARY:JFB lunch program "What Is A Radio Reading Service?"
DESCRIPTION:Jewish Federation of the Berkshires\nBerkshire Jewish Community
  Calendar\nhttps://jewishberkshires.org/jewish-federation-of-the-berkshire
 s-calendar/jfb-lunch-program-what-is-a-radio-reading-service\n\nJFB progra
 m "What Is A Radio Reading Service?"
DTSTART;TZID=America/New_York:20140213T130000
DTEND;TZID=America/New_York:20140213T150000
END:VEVENT
END:VCALENDAR
