BEGIN:VCALENDAR
PRODID:-//eluceo/ical//2.0/EN
VERSION:2.0
CALSCALE:GREGORIAN
BEGIN:VEVENT
UID:34a4c4ca6cf5f6d1919898d5aff3afd7
DTSTAMP:20260420T105805Z
SUMMARY:JFB Executive Committee mtg
DESCRIPTION:Jewish Federation of the Berkshires\nBerkshire Jewish Community
  Calendar\nhttps://jewishberkshires.org/jewish-federation-of-the-berkshire
 s-calendar/jfb-executive-committee-mtg\n\nJFB Executive Committee mtg
DTSTART;TZID=America/New_York:20130115T120000
DTEND;TZID=America/New_York:20130115T140000
END:VEVENT
END:VCALENDAR
