BEGIN:VCALENDAR
PRODID:-//eluceo/ical//2.0/EN
VERSION:2.0
CALSCALE:GREGORIAN
BEGIN:VEVENT
UID:62814b5d1d14ccefbd262fc512e69d15
DTSTAMP:20260424T075908Z
SUMMARY:JFB Campaign Solicitor meeting
DESCRIPTION:Jewish Federation of the Berkshires\nBerkshire Jewish Community
  Calendar\nhttps://jewishberkshires.org/jewish-federation-of-the-berkshire
 s-calendar/jfb-campaign-solicitor-meeting\n\nJFB Campaign Solicitor meetin
 g
DTSTART;TZID=America/New_York:20130521T183000
DTEND;TZID=America/New_York:20130521T193000
END:VEVENT
END:VCALENDAR
