BEGIN:VCALENDAR
PRODID:-//eluceo/ical//2.0/EN
VERSION:2.0
CALSCALE:GREGORIAN
BEGIN:VEVENT
UID:a34d6091c31b1d643447725ea00e6048
DTSTAMP:20260421T095256Z
SUMMARY:Jewish Federation  of the Berkshires Board of Directors Meeting
DESCRIPTION:Jewish Federation of the Berkshires\nBerkshire Jewish Community
  Calendar\nhttps://jewishberkshires.org/jewish-federation-of-the-berkshire
 s-calendar/jfb-board-of-directors-meeting\n\nThis meeting will be held in 
 person.
DTSTART;TZID=America/New_York:20230725T193000
DTEND;TZID=America/New_York:20230725T210000
END:VEVENT
END:VCALENDAR
